BEGIN:VCALENDAR
VERSION:2.0
PRODID:-//eventon.com NONSGML v1.0//EN
CALSCALE:GREGORIAN
METHOD:PUBLISH
BEGIN:VEVENT
UID:69e8a8f999588
DTSTAMP:20260422T105449Z
DTSTART:20260330T170000Z
DTEND:20260330T190000Z
LOCATION:
SUMMARY:Lohnverhandlung - Lohntransparenz
DESCRIPTION:Mit klaren Vorstellungen und klugem Handeln zum WunschgehaltDas
  Thema Lohn tritt in deiner Berufslaufbahn in unterschiedlichen Situationen
  auf. Ganz entscheidend ist das beim Einstieg oder Wiedereinstieg nach dem 
 Studium. Da ist kluges Handeln gefragt. Nach diesem Workshop&#8211; weisst 
 du\,  wie du dich klug vorbereitest&#8211; weisst du\,  wie Lohnprozesse zu
 stande kommen&#8211;[..]\nhttp://www.vsfg.ch/events/lohnverhandlung-lohntra
 nsparenz/
URL:http://www.vsfg.ch/events/lohnverhandlung-lohntransparenz/
END:VEVENT
END:VCALENDAR