BEGIN:VCALENDAR
VERSION:2.0
PRODID:-//eventon.com NONSGML v1.0//EN
CALSCALE:GREGORIAN
METHOD:PUBLISH
BEGIN:VEVENT
UID:69e8ad2c8b991
DTSTAMP:20260422T111244Z
DTSTART:20260317T170000Z
DTEND:20260317T183000Z
LOCATION:
SUMMARY:Bewerbungsunterlagen heute - zwischen ChatGPT und persönlicher Note
DESCRIPTION:Wieviel Persönlichkeit braucht ein CV? Worin kann ChatGPT unte
 rstützen\,  worin nicht? In diesem Workshop optimierst und reflektierst du
  deine Bewerbungsunterlagen (CV und Motivationsschreiben) und lernst\,  die
 se aus Sicht der Recruiter:innen zu interpretieren. Nimm deine Dokumente an
  den Workshop mit. Zudem erfährst du\,  wie du darin deinen eigenen USP si
 chtbar machst[..]\nhttp://www.vsfg.ch/events/bewerbungsunterlagen-heute-zwi
 schen-chatgpt-und-persoenlicher-note/
URL:http://www.vsfg.ch/events/bewerbungsunterlagen-heute-zwischen-chatgpt-und-persoenlicher-note/
END:VEVENT
END:VCALENDAR