BEGIN:VCALENDAR
VERSION:2.0
PRODID:-//eventon.com NONSGML v1.0//EN
CALSCALE:GREGORIAN
METHOD:PUBLISH
BEGIN:VEVENT
UID:69e8ae79d7f48
DTSTAMP:20260422T111817Z
DTSTART:20260326T170000Z
DTEND:20260326T210000Z
LOCATION:
SUMMARY:Alumni Verein: Beer Game
DESCRIPTION:Ein strategischer Spieleabend steht an: Gemeinsam mit deinen Mi
 tstreitern steuerst du die gesamte Lieferkette. Jede Entscheidung zählt: E
 rreicht das Bier im richtigen Moment deine Kundinnen und Kunden\,  oder ger
 ät der Ablauf ins Wanken? Dieses traditionsreiche Management-Game gehört 
 zu den ältesten und am weitverbreiteten Lernformaten seiner Art. Die Teiln
 ehmenden erleben hautnah\, [..]\nhttp://www.vsfg.ch/events/alumni-verein-be
 er-game/
URL:http://www.vsfg.ch/events/alumni-verein-beer-game/
END:VEVENT
END:VCALENDAR