BEGIN:VCALENDAR
VERSION:2.0
PRODID:-//eventon.com NONSGML v1.0//EN
CALSCALE:GREGORIAN
METHOD:PUBLISH
BEGIN:VEVENT
UID:69e8a84869eea
DTSTAMP:20260422T105152Z
DTSTART:20260325T183000Z
DTEND:20260325T200000Z
LOCATION:FHGR Aula
SUMMARY:ESN: International Dinner - vegan edition
DESCRIPTION:Join us\,  hosted by ESN Chur and StudentHUB for the Local Sust
 ainability Week Chur 2026\,  for a unique event celebrating vegan cuisine a
 t our Shared Vegan Buffet. Inspired by communal dining traditions and past 
 successes\,  this time\,  it&#8217;s all about vegan delights!\nhttp://www.
 vsfg.ch/events/esn-international-dinner-vegan-edition/
URL:http://www.vsfg.ch/events/esn-international-dinner-vegan-edition/
END:VEVENT
END:VCALENDAR