BEGIN:VCALENDAR
VERSION:2.0
PRODID:-//eventon.com NONSGML v1.0//EN
CALSCALE:GREGORIAN
METHOD:PUBLISH
BEGIN:VEVENT
UID:69e891fc66df4
DTSTAMP:20260422T091644Z
DTSTART:20260604T181500Z
DTEND:20260604T191500Z
LOCATION:FHGR Aula
SUMMARY:VSFG: Vereinsversammlung
DESCRIPTION:Wir laden alle zurVereinsversammlung ein. In diesem Rahmen info
 rmieren wir über den aktuellen Stand\,  ziehen eine Zwischenbilanz zum ers
 ten Halbjahr und geben einen Ausblick auf die kommenden Monate\nhttp://www.
 vsfg.ch/events/vsfg-vereinsversammlung/
URL:http://www.vsfg.ch/events/vsfg-vereinsversammlung/
END:VEVENT
END:VCALENDAR