BEGIN:VCALENDAR
VERSION:2.0
PRODID:-//eventon.com NONSGML v1.0//EN
CALSCALE:GREGORIAN
METHOD:PUBLISH
BEGIN:VEVENT
UID:69e8963265e47
DTSTAMP:20260422T093442Z
DTSTART:20260218T164500Z
DTEND:20260218T200000Z
LOCATION:
SUMMARY:MMP MOVIE NIGHT
DESCRIPTION:🎬 MMP Movie Night 4.0 🎬 Die grosse Leinwand wartet auf eu
 ch!Meldet euch an\,  kommt vorbei und geniesst einen gemeinsamen Kinoabend 
 mit Filmen aus dem MMP-Studium 🍿✨\nhttp://www.vsfg.ch/events/mmp-movie
 -night/
URL:http://www.vsfg.ch/events/mmp-movie-night/
END:VEVENT
END:VCALENDAR